BEGIN:VCALENDAR
VERSION:2.0
PRODID:-//wp-events-plugin.com//7.2.3.1//EN
TZID:America/Chicago
X-WR-TIMEZONE:America/Chicago
BEGIN:VEVENT
UID:510@landingeateryandpub.com
DTSTART;TZID=America/Chicago:20260423T200000
DTEND;TZID=America/Chicago:20260423T234500
DTSTAMP:20260316T004845Z
URL:https://landingeateryandpub.com/events/kim-derek-20/
SUMMARY:Kim & Derek
DESCRIPTION:
ATTACH;FMTTYPE=image/jpeg:https://landingeateryandpub.com/wp-content/uploa
 ds/2024/03/Kim-Derek.jpg
END:VEVENT
BEGIN:VTIMEZONE
TZID:America/Chicago
X-LIC-LOCATION:America/Chicago
BEGIN:DAYLIGHT
DTSTART:20260308T030000
TZOFFSETFROM:-0600
TZOFFSETTO:-0500
TZNAME:CDT
END:DAYLIGHT
END:VTIMEZONE
END:VCALENDAR