BEGIN:VCALENDAR
VERSION:2.0
PRODID:-//wp-events-plugin.com//7.2.3.1//EN
TZID:America/Chicago
X-WR-TIMEZONE:America/Chicago
BEGIN:VEVENT
UID:511@landingeateryandpub.com
DTSTART;TZID=America/Chicago:20260424T200000
DTEND;TZID=America/Chicago:20260424T234500
DTSTAMP:20260316T005155Z
URL:https://landingeateryandpub.com/events/dj-smiley-inside-headz-up-outsi
 de/
SUMMARY:DJ Smiley (Inside) Headz Up (Outside)
DESCRIPTION:
ATTACH;FMTTYPE=image/jpeg:https://landingeateryandpub.com/wp-content/uploa
 ds/2025/09/Headz-Up.jpg
END:VEVENT
BEGIN:VTIMEZONE
TZID:America/Chicago
X-LIC-LOCATION:America/Chicago
BEGIN:DAYLIGHT
DTSTART:20260308T030000
TZOFFSETFROM:-0600
TZOFFSETTO:-0500
TZNAME:CDT
END:DAYLIGHT
END:VTIMEZONE
END:VCALENDAR